BEGIN:VCALENDAR
VERSION:2.0
PRODID:-//FloTransport - ECPv6.15.19//NONSGML v1.0//EN
CALSCALE:GREGORIAN
METHOD:PUBLISH
X-WR-CALNAME:FloTransport
X-ORIGINAL-URL:https://seal.transport-manager.net/flosouris_yt
X-WR-CALDESC:Évènements pour FloTransport
REFRESH-INTERVAL;VALUE=DURATION:PT1H
X-Robots-Tag:noindex
X-PUBLISHED-TTL:PT1H
BEGIN:VTIMEZONE
TZID:Europe/Paris
BEGIN:DAYLIGHT
TZOFFSETFROM:+0100
TZOFFSETTO:+0200
TZNAME:CEST
DTSTART:20250330T010000
END:DAYLIGHT
BEGIN:STANDARD
TZOFFSETFROM:+0200
TZOFFSETTO:+0100
TZNAME:CET
DTSTART:20251026T010000
END:STANDARD
BEGIN:DAYLIGHT
TZOFFSETFROM:+0100
TZOFFSETTO:+0200
TZNAME:CEST
DTSTART:20260329T010000
END:DAYLIGHT
BEGIN:STANDARD
TZOFFSETFROM:+0200
TZOFFSETTO:+0100
TZNAME:CET
DTSTART:20261025T010000
END:STANDARD
BEGIN:DAYLIGHT
TZOFFSETFROM:+0100
TZOFFSETTO:+0200
TZNAME:CEST
DTSTART:20270328T010000
END:DAYLIGHT
BEGIN:STANDARD
TZOFFSETFROM:+0200
TZOFFSETTO:+0100
TZNAME:CET
DTSTART:20271031T010000
END:STANDARD
END:VTIMEZONE
BEGIN:VEVENT
DTSTART;VALUE=DATE:20260501
DTEND;VALUE=DATE:20260503
DTSTAMP:20260422T232042
CREATED:20251012T155543Z
LAST-MODIFIED:20251012T155543Z
UID:5191-1777600800-1777687199@seal.transport-manager.net
SUMMARY:👷 Fête du Travail - Vendredi 1er Mai 2026
DESCRIPTION:Un jour pour souffler et voyager ! 🛑 \nLe 1er mai est un vendredi : un long week-end de 3 jours s’offre à vous ! C’est l’occasion de prendre la route et de se ressourcer. \nCirculation : A définir
URL:https://seal.transport-manager.net/flosouris_yt/info/%f0%9f%91%b7-fete-du-travail-vendredi-1er-mai-2026/
CATEGORIES:Information
END:VEVENT
BEGIN:VEVENT
DTSTART;VALUE=DATE:20260508
DTEND;VALUE=DATE:20260510
DTSTAMP:20260422T232042
CREATED:20251012T155704Z
LAST-MODIFIED:20251012T155704Z
UID:5193-1778205600-1778291999@seal.transport-manager.net
SUMMARY:🥇 Victoire de 1945 - Vendredi 8 Mai 2026
DESCRIPTION:Week-end du souvenir prolongé ! 🇫🇷 \nLe 8 mai tombe également un vendredi ! Deux longs week-ends coup sur coup ! C’est l’occasion de partir explorer une région ou une ville. \nCirculation : Horaires du Dimanche & Jours Fériés Scolaires
URL:https://seal.transport-manager.net/flosouris_yt/info/%f0%9f%a5%87-victoire-de-1945-vendredi-8-mai-2026/
CATEGORIES:Information
END:VEVENT
BEGIN:VEVENT
DTSTART;VALUE=DATE:20260514
DTEND;VALUE=DATE:20260516
DTSTAMP:20260422T232042
CREATED:20251012T160054Z
LAST-MODIFIED:20251012T160054Z
UID:5197-1778724000-1778810399@seal.transport-manager.net
SUMMARY:🕊️ Ascension - Jeudi 14 Mai 2026
DESCRIPTION:Jour férié pour une pause bien méritée ! 🙏 \nUn jeudi férié est toujours une excellente nouvelle. Profitez de cette journée pour une excursion ou pour simplement vous détendre. \nCirculation : Horaires du Dimanche & Jours Fériés Scolaires
URL:https://seal.transport-manager.net/flosouris_yt/info/%f0%9f%95%8a%ef%b8%8f-ascension-jeudi-14-mai-2026/
CATEGORIES:Information
END:VEVENT
BEGIN:VEVENT
DTSTART;VALUE=DATE:20260514
DTEND;VALUE=DATE:20260519
DTSTAMP:20260422T232042
CREATED:20251012T160014Z
LAST-MODIFIED:20251012T160014Z
UID:5195-1778724000-1779069599@seal.transport-manager.net
SUMMARY:🌉 Pont de l'Ascension - Du 14 Mai au 17 Mai 2026
DESCRIPTION:Quatre jours pour s’envoler ! 🚀 \nL’Ascension est un jeudi\, et avec le vendredi 15 mai qui vaque\, c’est l’occasion rêvée pour un long week-end de 4 jours ! Planifiez dès maintenant votre escapade printanière. \nCirculation : Horaires du Dimanche & Jours Fériés Scolaires pour le 14 mai. Attention\, le 15\, 16 & 17 mai vaquent (pas cours)\, mais le réseau circule aux horaires Scolaires (à définir)
URL:https://seal.transport-manager.net/flosouris_yt/info/%f0%9f%8c%89-pont-de-lascension-du-14-mai-au-17-mai-2026/
CATEGORIES:Information
END:VEVENT
BEGIN:VEVENT
DTSTART;VALUE=DATE:20260525
DTEND;VALUE=DATE:20260527
DTSTAMP:20260422T232042
CREATED:20251012T160137Z
LAST-MODIFIED:20251012T160137Z
UID:5200-1779674400-1779760799@seal.transport-manager.net
SUMMARY:☀️ Lundi de Pentecôte - Lundi 25 Mai 2026
DESCRIPTION:Le dernier long week-end avant l’été ! 🍉 \nLe lundi de Pentecôte vous offre une dernière opportunité de week-end prolongé avant les grandes vacances. Idéal pour une petite escapade de fin de printemps. \nCirculation : Horaires du Dimanche & Jours Fériés Scolaires
URL:https://seal.transport-manager.net/flosouris_yt/info/%e2%98%80%ef%b8%8f-lundi-de-pentecote-lundi-25-mai-2026/
CATEGORIES:Information
END:VEVENT
END:VCALENDAR