BEGIN:VCALENDAR
VERSION:2.0
PRODID:-//FloTransport - ECPv6.15.19//NONSGML v1.0//EN
CALSCALE:GREGORIAN
METHOD:PUBLISH
X-WR-CALNAME:FloTransport
X-ORIGINAL-URL:https://seal.transport-manager.net/flosouris_yt
X-WR-CALDESC:Évènements pour FloTransport
REFRESH-INTERVAL;VALUE=DURATION:PT1H
X-Robots-Tag:noindex
X-PUBLISHED-TTL:PT1H
BEGIN:VTIMEZONE
TZID:Europe/Paris
BEGIN:DAYLIGHT
TZOFFSETFROM:+0100
TZOFFSETTO:+0200
TZNAME:CEST
DTSTART:20250330T010000
END:DAYLIGHT
BEGIN:STANDARD
TZOFFSETFROM:+0200
TZOFFSETTO:+0100
TZNAME:CET
DTSTART:20251026T010000
END:STANDARD
BEGIN:DAYLIGHT
TZOFFSETFROM:+0100
TZOFFSETTO:+0200
TZNAME:CEST
DTSTART:20260329T010000
END:DAYLIGHT
BEGIN:STANDARD
TZOFFSETFROM:+0200
TZOFFSETTO:+0100
TZNAME:CET
DTSTART:20261025T010000
END:STANDARD
BEGIN:DAYLIGHT
TZOFFSETFROM:+0100
TZOFFSETTO:+0200
TZNAME:CEST
DTSTART:20270328T010000
END:DAYLIGHT
BEGIN:STANDARD
TZOFFSETFROM:+0200
TZOFFSETTO:+0100
TZNAME:CET
DTSTART:20271031T010000
END:STANDARD
END:VTIMEZONE
BEGIN:VEVENT
DTSTART;VALUE=DATE:20260704
DTEND;VALUE=DATE:20260902
DTSTAMP:20260423T025907
CREATED:20251012T160222Z
LAST-MODIFIED:20251012T160222Z
UID:5202-1783130400-1788227999@seal.transport-manager.net
SUMMARY:⛱️ Vacances d'Été - Du 4 Juillet au 31 Août 2026
DESCRIPTION:Liberté\, voyages et soleil ! 🌞 \nLes grandes vacances arrivent ! Deux mois pour voyager\, découvrir et se reposer. Préparez vos itinéraires\, car c’est une longue période de circulation allégée. \nCirculation : Horaires Grandes Vacances Scolaires
URL:https://seal.transport-manager.net/flosouris_yt/info/%e2%9b%b1%ef%b8%8f-vacances-dete-du-4-juillet-au-31-aout-2026/
CATEGORIES:Information
END:VEVENT
BEGIN:VEVENT
DTSTART;VALUE=DATE:20260714
DTEND;VALUE=DATE:20260716
DTSTAMP:20260423T025907
CREATED:20251012T160325Z
LAST-MODIFIED:20251012T160325Z
UID:5204-1783994400-1784080799@seal.transport-manager.net
SUMMARY:🎆 Fête Nationale - Mardi 14 Juillet 2026
DESCRIPTION:Feux d’artifice et jours fériés en été ! 🇫🇷 \nLe 14 juillet tombe un mardi\, au cœur des vacances. C’est l’occasion de profiter des festivités nationales en famille. Pensez à vérifier les horaires spécifiques pour ce jour férié. \nCirculation : Horaires du Dimanche & Jours Fériés Grandes Vacances Scolaires
URL:https://seal.transport-manager.net/flosouris_yt/info/%f0%9f%8e%86-fete-nationale-mardi-14-juillet-2026/
CATEGORIES:Information
END:VEVENT
END:VCALENDAR