BEGIN:VCALENDAR
VERSION:2.0
PRODID:-//FloTransport - ECPv6.15.19//NONSGML v1.0//EN
CALSCALE:GREGORIAN
METHOD:PUBLISH
X-WR-CALNAME:FloTransport
X-ORIGINAL-URL:https://seal.transport-manager.net/flosouris_yt
X-WR-CALDESC:Évènements pour FloTransport
REFRESH-INTERVAL;VALUE=DURATION:PT1H
X-Robots-Tag:noindex
X-PUBLISHED-TTL:PT1H
BEGIN:VTIMEZONE
TZID:Europe/Paris
BEGIN:DAYLIGHT
TZOFFSETFROM:+0100
TZOFFSETTO:+0200
TZNAME:CEST
DTSTART:20250330T010000
END:DAYLIGHT
BEGIN:STANDARD
TZOFFSETFROM:+0200
TZOFFSETTO:+0100
TZNAME:CET
DTSTART:20251026T010000
END:STANDARD
BEGIN:DAYLIGHT
TZOFFSETFROM:+0100
TZOFFSETTO:+0200
TZNAME:CEST
DTSTART:20260329T010000
END:DAYLIGHT
BEGIN:STANDARD
TZOFFSETFROM:+0200
TZOFFSETTO:+0100
TZNAME:CET
DTSTART:20261025T010000
END:STANDARD
BEGIN:DAYLIGHT
TZOFFSETFROM:+0100
TZOFFSETTO:+0200
TZNAME:CEST
DTSTART:20270328T010000
END:DAYLIGHT
BEGIN:STANDARD
TZOFFSETFROM:+0200
TZOFFSETTO:+0100
TZNAME:CET
DTSTART:20271031T010000
END:STANDARD
END:VTIMEZONE
BEGIN:VEVENT
DTSTART;VALUE=DATE:20260525
DTEND;VALUE=DATE:20260527
DTSTAMP:20260423T010726
CREATED:20251012T160137Z
LAST-MODIFIED:20251012T160137Z
UID:5200-1779674400-1779760799@seal.transport-manager.net
SUMMARY:☀️ Lundi de Pentecôte - Lundi 25 Mai 2026
DESCRIPTION:Le dernier long week-end avant l’été ! 🍉 \nLe lundi de Pentecôte vous offre une dernière opportunité de week-end prolongé avant les grandes vacances. Idéal pour une petite escapade de fin de printemps. \nCirculation : Horaires du Dimanche & Jours Fériés Scolaires
URL:https://seal.transport-manager.net/flosouris_yt/info/%e2%98%80%ef%b8%8f-lundi-de-pentecote-lundi-25-mai-2026/
CATEGORIES:Information
END:VEVENT
END:VCALENDAR